Workbook
Name __10Excel_BuiltIn_Print_Area_3_4_1: #REF!
Name __1Excel_BuiltIn_Print_Area_3_1: '[1]#REF!'!#REF!
Name __2Excel_BuiltIn_Print_Area_3_2: #REF!
Name __3Excel_BuiltIn_Print_Area_3_3: #REF!
Name __4Excel_BuiltIn_Print_Area_3_4: #REF!
Name __6Excel_BuiltIn_Print_Area_3_1_2: #REF!
Name __7Excel_BuiltIn_Print_Area_3_1_3: #REF!
Name __8Excel_BuiltIn_Print_Area_3_2_1: #REF!
Name __9Excel_BuiltIn_Print_Area_3_3_1: #REF!
Name _1___Excel_BuiltIn_Print_Area_3_1: '[2]#REF!'!#REF!
Name _10__Excel_BuiltIn_Print_Area_3_1_2: #REF!
Name _10Excel_BuiltIn_Print_Area_3_4_1: #REF!
Name _11__Excel_BuiltIn_Print_Area_3_1_3: #REF!
Name _12__Excel_BuiltIn_Print_Area_3_2_1: #REF!
Name _12Excel_BuiltIn_Print_Area_3_2: #REF!
Name _13__Excel_BuiltIn_Print_Area_3_3_1: #REF!
Name _14__Excel_BuiltIn_Print_Area_3_4_1: #REF!
Name _15_Excel_BuiltIn_Print_Area_3_1: '[2]#REF!'!#REF!
Name _16_Excel_BuiltIn_Print_Area_3_2: #REF!
Name _17_Excel_BuiltIn_Print_Area_3_3: #REF!
Name _18_Excel_BuiltIn_Print_Area_3_4: #REF!
Name _18Excel_BuiltIn_Print_Area_3_3: #REF!
Name _19_Excel_BuiltIn_Print_Area_3_1_1: '[3]#REF!'!#REF!
Name _1Excel_BuiltIn_Print_Area_3_1: '[4]#REF!'!#REF!
Name _2___Excel_BuiltIn_Print_Area_3_2: #REF!
Name _20_Excel_BuiltIn_Print_Area_3_1_2: #REF!
Name _21_Excel_BuiltIn_Print_Area_3_1_3: #REF!
Name _22_Excel_BuiltIn_Print_Area_3_2_1: #REF!
Name _23_Excel_BuiltIn_Print_Area_3_3_1: #REF!
Name _24_Excel_BuiltIn_Print_Area_3_4_1: #REF!
Name _24Excel_BuiltIn_Print_Area_3_4: #REF!
Name _26Excel_BuiltIn_Print_Area_3_1: '[4]#REF!'!#REF!
Name _27Excel_BuiltIn_Print_Area_3_2: #REF!
Name _28Excel_BuiltIn_Print_Area_3_3: #REF!
Name _2Excel_BuiltIn_Print_Area_3_2: #REF!
Name _3___Excel_BuiltIn_Print_Area_3_3: #REF!
Name _30Excel_BuiltIn_Print_Area_3_1: '[4]#REF!'!#REF!
Name _30Excel_BuiltIn_Print_Area_3_1_1: '[5]#REF!'!#REF!
Name _30Excel_BuiltIn_Print_Area_3_4: #REF!
Name _32Excel_BuiltIn_Print_Area_3_1_1: '[5]#REF!'!#REF!
Name _33Excel_BuiltIn_Print_Area_3_1_2: #REF!
Name _34Excel_BuiltIn_Print_Area_3_1_3: #REF!
Name _35Excel_BuiltIn_Print_Area_3_2_1: #REF!
Name _36Excel_BuiltIn_Print_Area_3_1_2: #REF!
Name _36Excel_BuiltIn_Print_Area_3_2: #REF!
Name _36Excel_BuiltIn_Print_Area_3_3_1: #REF!
Name _38Excel_BuiltIn_Print_Area_3_4_1: #REF!
Name _3Excel_BuiltIn_Print_Area_3_3: #REF!
Name _4___Excel_BuiltIn_Print_Area_3_4: #REF!
Name _42Excel_BuiltIn_Print_Area_3_1_3: #REF!
Name _42Excel_BuiltIn_Print_Area_3_3: #REF!
Name _48Excel_BuiltIn_Print_Area_3_2_1: #REF!
Name _48Excel_BuiltIn_Print_Area_3_4: #REF!
Name _4Excel_BuiltIn_Print_Area_3_4: #REF!
Name _5__Excel_BuiltIn_Print_Area_3_1: '[2]#REF!'!#REF!
Name _54Excel_BuiltIn_Print_Area_3_1_1: '[5]#REF!'!#REF!
Name _54Excel_BuiltIn_Print_Area_3_3_1: #REF!
Name _5Excel_BuiltIn_Print_Area_3_1_1: '[5]#REF!'!#REF!
Name _6__Excel_BuiltIn_Print_Area_3_2: #REF!
Name _60Excel_BuiltIn_Print_Area_3_1_2: #REF!

Sheet チーム基本データ
A2: チーム登録(名札・駐車券)作成基本データ | D2: 2022/1/1変更
A3: 塗りつぶしてあるセル以外のセルを入力すると、名札・駐車券が作成されます。 必要シートを出力して下さい。
A5: 注意事項 | B5: 連合チームは、駐車券 3枚/チーム (No1～No3)で当該チーム名を記載ください
D8: チーム名 | E8: 監督氏名 | F8: コーチ1 | G8: コーチ2 | H8: コーチ3 | I8: コーチ4 | J8: コーチ5 | K8: コーチ | L8: 駐車責任者
C9: 優先順位 | D9: チーム名 | E9: 監督 | F9: コーチ | G9: コーチ | H9: コーチ | I9: コーチ | J9: コーチ | K9: コーチ | L9: 駐車責任者
B10: 2026年度柏井リーグ | E10: 鹿山 智之 | F10: いいいいいいい | G10: ううううううううう | H10: えええええええ | I10: おおおおおおお | J10: ＡＡＡＡＡＡＡＡＡ | K10: ＢＢＢＢＢＢＢＢ | L10: ＣＣＣＣＣＣＣＣＣ
B11: 2026年度レギュラーBリーグ | E11: かかかかかかか | F11: ききききききき | G11: くくくくくくくくくくく | H11: けけけけけけけ | I11: ここここここここ | J11: ａａａａａａａａａａａ | K11: ｂｂｂｂｂｂｂｂｂｂｂ | L11: ｃｃｃｃｃｃｃｃｃｃｃｃ
B12: 2026年度ヤングスター | E12: さささささささささ | F12: ししししししししし | G12: すすすすすすす | H12: せせせせせせ | I12: そそそそそそそ | J12: 1111111111 | K12: 222222222 | L12: 3333333333
A13: 2026 柏井リーグ | B13: 駐車許可書
A14: 2026 レギュラーBリーグ | B14: 駐車許可書
A15: 2026 ヤングスター | B15: 駐車許可書

Sheet 柏井リーグ名札
B2: 2026 | C2: =チーム基本データ!D10 -> 0 | G2: 2026 | H2: =C2 -> 0
B3: =チーム基本データ!C10 -> 0 | C3: =チーム基本データ!E9 -> 監督 | G3: =B3 -> 0 | H3: =チーム基本データ!F9 -> コーチ
B4: =チーム基本データ!E10 -> 鹿山 智之 | G4: =チーム基本データ!F10 -> いいいいいいい
C6: Enjoy Baseball | H6: Enjoy Baseball
B7: 2026 | C7: =C2 -> 0 | G7: 2026 | H7: =H2 -> 0
B8: =G3 -> 0 | C8: =H3 -> コーチ | G8: =G3 -> 0 | H8: =H3 -> コーチ
B9: =チーム基本データ!G10 -> ううううううううう | C9: =チーム基本データ!D10 -> 0 | G9: =チーム基本データ!H10 -> えええええええ | H9: =チーム基本データ!D10 -> 0
C10: =チーム基本データ!G10 -> ううううううううう | H10: =チーム基本データ!H10 -> えええええええ
C11: Enjoy Baseball | H11: Enjoy Baseball
B12: 2026 | C12: =C7 -> 0 | G12: 2026 | H12: =H7 -> 0
B13: =B8 -> 0 | C13: =C8 -> コーチ | G13: =G8 -> 0 | H13: =H8 -> コーチ
B14: =チーム基本データ!I10 -> おおおおおおお | C14: =チーム基本データ!D10 -> 0 | G14: =チーム基本データ!J10 -> ＡＡＡＡＡＡＡＡＡ | H14: =チーム基本データ!D10 -> 0
C15: =チーム基本データ!I10 -> おおおおおおお | H15: =チーム基本データ!J10 -> ＡＡＡＡＡＡＡＡＡ
C16: Enjoy Baseball | H16: Enjoy Baseball
B17: 2026 | C17: =C12 -> 0 | G17: 2026 | H17: =H12 -> 0
B18: =B13 -> 0 | C18: =C13 -> コーチ | G18: =G13 -> 0 | H18: =チーム基本データ!L9 -> 駐車責任者
B19: =チーム基本データ!K10 -> ＢＢＢＢＢＢＢＢ | C19: =チーム基本データ!D10 -> 0 | G19: =チーム基本データ!L10 -> ＣＣＣＣＣＣＣＣＣ | H19: =チーム基本データ!D10 -> 0
C20: =チーム基本データ!K10 -> ＢＢＢＢＢＢＢＢ | H20: =チーム基本データ!L10 -> ＣＣＣＣＣＣＣＣＣ
C21: Enjoy Baseball | H21: Enjoy Baseball

Sheet Ｂリーグ名札
B2: 2026 | C2: =チーム基本データ!D10 -> 0 | G2: 2026 | H2: =C2 -> 0
B3: =チーム基本データ!C10 -> 0 | C3: =チーム基本データ!E9 -> 監督 | G3: =B3 -> 0 | H3: =チーム基本データ!F9 -> コーチ
B4: =チーム基本データ!E11 -> かかかかかかか | G4: =チーム基本データ!F11 -> ききききききき
C6: Enjoy Baseball | H6: Enjoy Baseball
B7: 2026 | C7: =C2 -> 0 | G7: 2026 | H7: =H2 -> 0
B8: =G3 -> 0 | C8: =H3 -> コーチ | G8: =G3 -> 0 | H8: =H3 -> コーチ
B9: =チーム基本データ!G11 -> くくくくくくくくくくく | C9: =チーム基本データ!D10 -> 0 | G9: =チーム基本データ!H11 -> けけけけけけけ | H9: =チーム基本データ!D10 -> 0
C10: =チーム基本データ!G10 -> ううううううううう | H10: =チーム基本データ!H10 -> えええええええ
C11: Enjoy Baseball | H11: Enjoy Baseball
B12: 2026 | C12: =C7 -> 0 | G12: 2026 | H12: =H7 -> 0
B13: =B8 -> 0 | C13: =C8 -> コーチ | G13: =G8 -> 0 | H13: =H8 -> コーチ
B14: =チーム基本データ!I11 -> ここここここここ | C14: =チーム基本データ!D10 -> 0 | G14: =チーム基本データ!J11 -> ａａａａａａａａａａａ | H14: =チーム基本データ!D10 -> 0
C15: =チーム基本データ!I10 -> おおおおおおお | H15: =チーム基本データ!J10 -> ＡＡＡＡＡＡＡＡＡ
C16: Enjoy Baseball | H16: Enjoy Baseball
B17: 2026 | C17: =C12 -> 0 | G17: 2026 | H17: =H12 -> 0
B18: =B13 -> 0 | C18: =C13 -> コーチ | G18: =G13 -> 0 | H18: =チーム基本データ!L9 -> 駐車責任者
B19: =チーム基本データ!K11 -> ｂｂｂｂｂｂｂｂｂｂｂ | C19: =チーム基本データ!D10 -> 0 | G19: =チーム基本データ!L11 -> ｃｃｃｃｃｃｃｃｃｃｃｃ | H19: =チーム基本データ!D10 -> 0
C20: =チーム基本データ!K10 -> ＢＢＢＢＢＢＢＢ | H20: =チーム基本データ!L10 -> ＣＣＣＣＣＣＣＣＣ
C21: Enjoy Baseball | H21: Enjoy Baseball

Sheet ヤングスター名札 
B2: 2026 | C2: =チーム基本データ!D10 -> 0 | G2: 2026 | H2: =C2 -> 0
B3: =チーム基本データ!C10 -> 0 | C3: =チーム基本データ!E9 -> 監督 | G3: =B3 -> 0 | H3: =チーム基本データ!F9 -> コーチ
B4: =チーム基本データ!E12 -> さささささささささ | G4: =チーム基本データ!F12 -> ししししししししし
C6: Enjoy Baseball | H6: Enjoy Baseball
B7: 2026 | C7: =C2 -> 0 | G7: 2026 | H7: =H2 -> 0
B8: =G3 -> 0 | C8: =H3 -> コーチ | G8: =G3 -> 0 | H8: =H3 -> コーチ
B9: =チーム基本データ!G12 -> すすすすすすす | C9: =チーム基本データ!D10 -> 0 | G9: =チーム基本データ!H12 -> せせせせせせ | H9: =チーム基本データ!D10 -> 0
C10: =チーム基本データ!G10 -> ううううううううう | H10: =チーム基本データ!H10 -> えええええええ
C11: Enjoy Baseball | H11: Enjoy Baseball
B12: 2026 | C12: =C7 -> 0 | G12: 2026 | H12: =H7 -> 0
B13: =B8 -> 0 | C13: =C8 -> コーチ | G13: =G8 -> 0 | H13: =H8 -> コーチ
B14: =チーム基本データ!I12 -> そそそそそそそ | C14: =チーム基本データ!D10 -> 0 | G14: =チーム基本データ!J12 -> 1111111111 | H14: =チーム基本データ!D10 -> 0
C15: =チーム基本データ!I10 -> おおおおおおお | H15: =チーム基本データ!J10 -> ＡＡＡＡＡＡＡＡＡ
C16: Enjoy Baseball | H16: Enjoy Baseball
B17: 2025 | C17: =C12 -> 0 | G17: 2026 | H17: =H12 -> 0
B18: =B13 -> 0 | C18: =C13 -> コーチ | G18: =G13 -> 0 | H18: =チーム基本データ!L9 -> 駐車責任者
B19: =チーム基本データ!K12 -> 222222222 | C19: =チーム基本データ!D10 -> 0 | G19: =チーム基本データ!L12 -> 3333333333 | H19: =チーム基本データ!D10 -> 0
C20: =チーム基本データ!K10 -> ＢＢＢＢＢＢＢＢ | H20: =チーム基本データ!L10 -> ＣＣＣＣＣＣＣＣＣ
C21: Enjoy Baseball | H21: Enjoy Baseball

Sheet 柏井駐車券
A2: 優先順位 | B2: チ ー ム 名
A3: =チーム基本データ!C10 -> 0 | B3: =チーム基本データ!D10 -> 0
A4: No. | B4: =チーム基本データ!A13 -> 2026 柏井リーグ
A5: 1 | B5: =チーム基本データ!B13 -> 駐車許可書
A8: 優先順位 | B8: チ ー ム 名
A9: =A3 -> 0 | B9: =B3 -> 0
A10: No. | B10: =B4 -> 2026 柏井リーグ
A11: 2 | B11: =B5 -> 駐車許可書
A14: 優先順位 | B14: チ ー ム 名
A15: =A9 -> 0 | B15: =B9 -> 0
A16: No. | B16: =B10 -> 2026 柏井リーグ
A17: 3 | B17: =B11 -> 駐車許可書
A20: 優先順位 | B20: チ ー ム 名
A21: =A15 -> 0 | B21: =B15 -> 0
A22: No. | B22: =B16 -> 2026 柏井リーグ
A23: 4 | B23: =B17 -> 駐車許可書
A26: 優先順位 | B26: チ ー ム 名
A27: =A21 -> 0 | B27: =B21 -> 0
A28: No. | B28: =B22 -> 2026 柏井リーグ
A29: 5 | B29: =B23 -> 駐車許可書

Sheet Bリーグ駐車券
A2: 優先順位 | B2: チ ー ム 名
A3: =チーム基本データ!C10 -> 0 | B3: =チーム基本データ!D10 -> 0
A4: No. | B4: =チーム基本データ!A14 -> 2026 レギュラーBリーグ
A5: 1 | B5: =チーム基本データ!B14 -> 駐車許可書
A8: 優先順位 | B8: チ ー ム 名
A9: =A3 -> 0 | B9: =B3 -> 0
A10: No. | B10: =B4 -> 2026 レギュラーBリーグ
A11: 2 | B11: =B5 -> 駐車許可書
A14: 優先順位 | B14: チ ー ム 名
A15: =A9 -> 0 | B15: =B9 -> 0
A16: No. | B16: =B10 -> 2026 レギュラーBリーグ
A17: 3 | B17: =B11 -> 駐車許可書
A20: 優先順位 | B20: チ ー ム 名
A21: =A15 -> 0 | B21: =B15 -> 0
A22: No. | B22: =B16 -> 2026 レギュラーBリーグ
A23: 4 | B23: =B17 -> 駐車許可書
A26: 優先順位 | B26: チ ー ム 名
A27: =A21 -> 0 | B27: =B21 -> 0
A28: No. | B28: =B22 -> 2026 レギュラーBリーグ
A29: 5 | B29: =B23 -> 駐車許可書

Sheet ヤングスター駐車券
A2: 優先順位 | B2: チ ー ム 名
A3: =チーム基本データ!C10 -> 0 | B3: =チーム基本データ!D10 -> 0
A4: No. | B4: =チーム基本データ!A15 -> 2026 ヤングスター
A5: 1 | B5: =チーム基本データ!B15 -> 駐車許可書
A8: 優先順位 | B8: チ ー ム 名
A9: =A3 -> 0 | B9: =B3 -> 0
A10: No. | B10: =B4 -> 2026 ヤングスター
A11: 2 | B11: =B5 -> 駐車許可書
A14: 優先順位 | B14: チ ー ム 名
A15: =A9 -> 0 | B15: =B9 -> 0
A16: No. | B16: =B10 -> 2026 ヤングスター
A17: 3 | B17: =B11 -> 駐車許可書
A20: 優先順位 | B20: チ ー ム 名
A21: =A15 -> 0 | B21: =B15 -> 0
A22: No. | B22: =B16 -> 2026 ヤングスター
A23: 4 | B23: =B17 -> 駐車許可書
A26: 優先順位 | B26: チ ー ム 名
A27: =A21 -> 0 | B27: =B21 -> 0
A28: No. | B28: =B22 -> 2026 ヤングスター
A29: 5 | B29: =B23 -> 駐車許可書

Sheet Sheet3
